BEGIN:VCALENDAR
VERSION:2.0
PRODID:-//eventon.com NONSGML v1.0//EN
CALSCALE:GREGORIAN
METHOD:PUBLISH
BEGIN:VEVENT
UID:69e738b174dab
DTSTAMP:20260421T084329Z
DTSTART:20251111T183000Z
DTEND:20251111T210000Z
LOCATION:
SUMMARY:Early permanence training
DESCRIPTION:This course is designed for prospective and approved adopters t
 o better understand what early permanence entails so that they can make an 
 informed decision as to whether it is an option they wish to consider. Emai
 l katie.leighton@pactcharity.org to confirm your attendance and a link will
  be sent to you.\nhttps://www.pactcharity.org/events/early-permanence-train
 ing-8/
URL:https://www.pactcharity.org/events/early-permanence-training-8/
END:VEVENT
END:VCALENDAR