BEGIN:VCALENDAR
VERSION:2.0
PRODID:-//eventon.com NONSGML v1.0//EN
CALSCALE:GREGORIAN
METHOD:PUBLISH
BEGIN:VEVENT
UID:69e4d27d12b76
DTSTAMP:20260419T130253Z
DTSTART:20260318T100000Z
DTEND:20260318T120000Z
LOCATION:Alana House South Street
SUMMARY:Baking Group
DESCRIPTION:Learn new skills and take home what you bake.To find out more\,
   speak to your key worker. Alternatively\,  email alana.house@pactcharity
 .org or call 0118 921 7640.\nhttps://www.pactcharity.org/events/baking-gro
 up-3/var/ri-8.l-L1
URL:https://www.pactcharity.org/events/baking-group-3/var/ri-8.l-L1
END:VEVENT
END:VCALENDAR