BEGIN:VCALENDAR
VERSION:2.0
PRODID:-//eventon.com NONSGML v1.0//EN
CALSCALE:GREGORIAN
METHOD:PUBLISH
BEGIN:VEVENT
UID:69e5f06606ea8
DTSTAMP:20260420T092246Z
DTSTART:20250517T130000Z
DTEND:20250517T150000Z
LOCATION:Chessington
SUMMARY:Adoptee Voices - Tree Top Ropes Adventure for ages 13-17 (in-person)
DESCRIPTION:Adoptee Voices are going on a Tree Top Ropes Adventure. This wi
 ll include one hour climbing on the ropes course followed by light snacks p
 rovided by PACT. The activity will be in Chessington\,  full details provid
 ed on booking. Spaces are limited and allocated on a first come first serve
 d basis.[..]\nhttps://www.pactcharity.org/events/adoptee-voices-tree-top-ro
 pes-adventure-for-ages-13-17-in-person/
URL:https://www.pactcharity.org/events/adoptee-voices-tree-top-ropes-adventure-for-ages-13-17-in-person/
END:VEVENT
END:VCALENDAR