BEGIN:VCALENDAR
VERSION:2.0
PRODID:-//eventon.com NONSGML v1.0//EN
CALSCALE:GREGORIAN
METHOD:PUBLISH
BEGIN:VEVENT
UID:69e67b0293903
DTSTAMP:20260420T191410Z
DTSTART:20260509
DTEND:20260510
LOCATION:
SUMMARY:Guildford Inflatable 5k
DESCRIPTION:Find out more đź‘‰ www.ukrunningevents.co.uk/events/inflatable-
 5k/guildford-surrey-2026&nbsp; Your 2026 adventure awaits! Get in touch atÂ
  supportus@pactcharity.orgÂ and we can help you make the most of your run.Â
  Â \nhttps://www.pactcharity.org/events/guildford-inflatable-5k/
URL:https://www.pactcharity.org/events/guildford-inflatable-5k/
END:VEVENT
END:VCALENDAR