BEGIN:VCALENDAR
VERSION:2.0
PRODID:-//eventon.com NONSGML v1.0//EN
CALSCALE:GREGORIAN
METHOD:PUBLISH
BEGIN:VEVENT
UID:69eb2413e3cce
DTSTAMP:20260424T080435Z
DTSTART:20260509T090000Z
DTEND:20260509T130000Z
LOCATION:Washbrooks Family Farm Brighton Road\,  Hurstpierpoint\,  West Sussex (BN6 9EF)
SUMMARY:Brighton Family Fun Day
DESCRIPTION:Join us for a fun and memorable day at Washbrooks Family Farm\,
   where children and families can get closer to animals\,  nature\,  and ad
 venture. This is a great opportunity to meet and connect with other PACT fa
 milies\,  build friendships and enjoy time together in a relaxed setting. W
 e hope you[..]\nhttps://www.pactcharity.org/events/brighton-family-fun-day/
URL:https://www.pactcharity.org/events/brighton-family-fun-day/
END:VEVENT
END:VCALENDAR