BEGIN:VCALENDAR
VERSION:2.0
PRODID:-//eventon.com NONSGML v1.0//EN
CALSCALE:GREGORIAN
METHOD:PUBLISH
BEGIN:VEVENT
UID:69eb23cabb656
DTSTAMP:20260424T080322Z
DTSTART:20270308T193000Z
DTEND:20270308T210000Z
LOCATION:Online
SUMMARY:'Being Dad' support evening for adoptive fathers
DESCRIPTION:Are you an adoptive father or father to be?Would you like to me
 et and connect with other dads?PACT’s Strengthening Families Team are ple
 ased to be running a group just for you. We are looking forward to meeting 
 you to share support\,  encouragement and advice.The group will meet virtua
 lly via Microsoft[..]\nhttps://www.pactcharity.org/events/being-dad-support
 -evening-for-adoptive-fathers-9/var/ri-5.l-L1
URL:https://www.pactcharity.org/events/being-dad-support-evening-for-adoptive-fathers-9/var/ri-5.l-L1
END:VEVENT
END:VCALENDAR