BEGIN:VCALENDAR
VERSION:2.0
PRODID:-//eventon.com NONSGML v1.0//EN
CALSCALE:GREGORIAN
METHOD:PUBLISH
BEGIN:VEVENT
UID:69e58f8650e13
DTSTAMP:20260420T022926Z
DTSTART:20211108T173000Z
DTEND:20211108T193000Z
LOCATION:Online Event joining details provided after booking
SUMMARY:Virtual information event
DESCRIPTION:Find out more about adoption and adopting with PACT. To request
  to book onto this event\,  please fill our our adoption enquiry form here 
 or call our team on 0300 456 4800. Information events are led by a PACT s
 ocial worker and will include a talk from someone who has adopted[..]\nhttp
 s://www.pactcharity.org/events/virtual-information-event-3/
URL:https://www.pactcharity.org/events/virtual-information-event-3/
END:VEVENT
END:VCALENDAR