BEGIN:VCALENDAR
VERSION:2.0
PRODID:-//eventon.com NONSGML v1.0//EN
CALSCALE:GREGORIAN
METHOD:PUBLISH
BEGIN:VEVENT
UID:69e8a11a1e821
DTSTAMP:20260422T102114Z
DTSTART:20220912T163000Z
DTEND:20220912T183000Z
LOCATION:facebook.com/pactcharity
SUMMARY:Virtual information event
DESCRIPTION:Find out more about adoption and adopting with PACT. To request
  to book onto this event\,  please fill our our adoption enquiry form here 
 or call our team on 0300 456 4800. Information events are led by a PACT s
 ocial worker and will include a talk from someone who has adopted[..]\nhttp
 s://www.pactcharity.org/events/virtual-information-event-25/
URL:https://www.pactcharity.org/events/virtual-information-event-25/
END:VEVENT
END:VCALENDAR