BEGIN:VCALENDAR
VERSION:2.0
PRODID:-//eventon.com NONSGML v1.0//EN
CALSCALE:GREGORIAN
METHOD:PUBLISH
BEGIN:VEVENT
UID:69e64326e7f00
DTSTAMP:20260420T151550Z
DTSTART:20240529T140000Z
DTEND:20240529T153000Z
LOCATION:London
SUMMARY:Green Eggs and Ham
DESCRIPTION:Join us for this in-person activity in London\,  for PACT child
 ren aged 5-10 and their parents. Parents and children using their bodies to
  create a drama. Our activity events are a great opportunity for parents an
 d children to meet other adoptive families in a relaxed setting. Please not
 e that parents[..]\nhttps://www.pactcharity.org/events/green-eggs-and-ham/
URL:https://www.pactcharity.org/events/green-eggs-and-ham/
END:VEVENT
END:VCALENDAR